Workbook

Sheet CS_Advising_Sheet
F1: BACHELOR of Science in Informatics (ONLINE)
F2: For students who entered the College of Liberal Arts & Sciences starting Fall 2005 or after
F3: Total Credits Required: 120
F4: Last Revised: 5/2017
A5: NAME: | H5: Total Credits Completed: | K5: =SUM(I18,I27,I35,I43,I54,I63,I83,I96,I183) -> 0
A6: ID#: | J6: Cummulative GPA Hours: | K6: =SUM(J18,J27,J35,J43,J54,J63,J83,J96,J109,J183) -> 0
A7: DATE: | J7: Cummulative GPA: | K7: =SUM(K11:K17,K23:K26,K32:K34,K41:K42,K49:K53,K61:K62,K70:K82,K94:K95,K103:K108,K178:K182) /K6 -> #DIV/0!
A9: FUNDAMENTAL LITERACIES: (13 - 19 credits)
B10: Course No. | C10: Title | D10: Credit | E10: Grade | F10: Semester | G10: Year | H10: Notes: | I10: Hrs Passed | J10: GPA Hrs | K10: GPA Units
A11: A | B11: ENG-W 131 | C11: English Composition | D11: 3 | H11: A grade of C or better is required. | I11: =IF(OR(E11= "A+",E11="A", E11="A-",E11="B+", E11="B", E11="B-", E11="C+", E11="C", E11="C-", E11="D+", E11="D", E11="D-", E11="S"), D11, 0) -> 0 | J11: =IF(OR(E11= "A+",E11="A", E11="A-",E11="B+", E11="B", E11="B-", E11="C+", E11="C", E11="C-", E11="D+", E11="D", E11="D-", E11="F"), D11, 0) -> 0 | K11: =IF(ISBLANK(E11 ),"",IF( VLOOKUP(E11,Scales!$C$3:$D$19,2,FALSE) <0, "", D11*VLOOKUP(E11,Scales!$C$3:$D$19,2,FALSE)))
A12: B | C12: Critical Thinking | D12: 3 | H12: e.g., CSCI-C250, PHIL- P 105, P 110, P 150 | I12: =IF(OR(E12= "A+",E12="A", E12="A-",E12="B+", E12="B", E12="B-", E12="C+", E12="C", E12="C-", E12="D+", E12="D", E12="D-", E12="S"), D12, 0) -> 0 | J12: =IF(OR(E12= "A+",E12="A", E12="A-",E12="B+", E12="B", E12="B-", E12="C+", E12="C", E12="C-", E12="D+", E12="D", E12="D-", E12="F"), D12, 0) -> 0 | K12: =IF(ISBLANK(E12 ),"",IF( VLOOKUP(E12,Scales!$C$3:$D$19,2,FALSE) <0, "", D12*VLOOKUP(E12,Scales!$C$3:$D$19,2,FALSE)))
A13: C | B13: SPCH-S 121 | C13: Oral Communication | D13: 3 | H13: SPCH-S 121 | I13: =IF(OR(E13= "A+",E13="A", E13="A-",E13="B+", E13="B", E13="B-", E13="C+", E13="C", E13="C-", E13="D+", E13="D", E13="D-", E13="S"), D13, 0) -> 0 | J13: =IF(OR(E13= "A+",E13="A", E13="A-",E13="B+", E13="B", E13="B-", E13="C+", E13="C", E13="C-", E13="D+", E13="D", E13="D-", E13="F"), D13, 0) -> 0 | K13: =IF(ISBLANK(E13 ),"",IF( VLOOKUP(E13,Scales!$C$3:$D$19,2,FALSE) <0, "", D13*VLOOKUP(E13,Scales!$C$3:$D$19,2,FALSE)))
A14: D | B14: INFO-I 310 | C14: Visual Literary | D14: 3 | H14: e.g., INFO-I310, FINA A109, JOUR J210 | I14: =IF(OR(E14= "A+",E14="A", E14="A-",E14="B+", E14="B", E14="B-", E14="C+", E14="C", E14="C-", E14="D+", E14="D", E14="D-", E14="S"), D14, 0) -> 0 | J14: =IF(OR(E14= "A+",E14="A", E14="A-",E14="B+", E14="B", E14="B-", E14="C+", E14="C", E14="C-", E14="D+", E14="D", E14="D-", E14="F"), D14, 0) -> 0 | K14: =IF(ISBLANK(E14 ),"",IF( VLOOKUP(E14,Scales!$C$3:$D$19,2,FALSE) <0, "", D14*VLOOKUP(E14,Scales!$C$3:$D$19,2,FALSE)))
A15: E | B15: MATH-M 118 | C15: Quantitative Reasoning | D15: 3 | H15: Satisfied by required Mathematics courses | I15: =IF(OR(E15= "A+",E15="A", E15="A-",E15="B+", E15="B", E15="B-", E15="C+", E15="C", E15="C-", E15="D+", E15="D", E15="D-", E15="S"), D15, 0) -> 0 | J15: =IF(OR(E15= "A+",E15="A", E15="A-",E15="B+", E15="B", E15="B-", E15="C+", E15="C", E15="C-", E15="D+", E15="D", E15="D-", E15="F"), D15, 0) -> 0 | K15: =IF(ISBLANK(E15 ),"",IF( VLOOKUP(E15,Scales!$C$3:$D$19,2,FALSE) <0, "", D15*VLOOKUP(E15,Scales!$C$3:$D$19,2,FALSE)))
A16: F | B16: COAS-Q 110 | C16: Information Literacy | D16: 1 | H16: Should be taken with ENG W131 | I16: =IF(OR(E16= "A+",E16="A", E16="A-",E16="B+", E16="B", E16="B-", E16="C+", E16="C", E16="C-", E16="D+", E16="D", E16="D-", E16="S"), D16, 0) -> 0 | J16: =IF(OR(E16= "A+",E16="A", E16="A-",E16="B+", E16="B", E16="B-", E16="C+", E16="C", E16="C-", E16="D+", E16="D", E16="D-", E16="F"), D16, 0) -> 0 | K16: =IF(ISBLANK(E16 ),"",IF( VLOOKUP(E16,Scales!$C$3:$D$19,2,FALSE) <0, "", D16*VLOOKUP(E16,Scales!$C$3:$D$19,2,FALSE)))
A17: G | B17: INFO-I 101 | C17: Computer Literacy | D17: 3 | H17: Satisfied by required Computer Science courses | I17: =IF(OR(E17= "A+",E17="A", E17="A-",E17="B+", E17="B", E17="B-", E17="C+", E17="C", E17="C-", E17="D+", E17="D", E17="D-", E17="S"), D17, 0) -> 0 | J17: =IF(OR(E17= "A+",E17="A", E17="A-",E17="B+", E17="B", E17="B-", E17="C+", E17="C", E17="C-", E17="D+", E17="D", E17="D-", E17="F"), D17, 0) -> 0 | K17: =IF(ISBLANK(E17 ),"",IF( VLOOKUP(E17,Scales!$C$3:$D$19,2,FALSE) <0, "", D17*VLOOKUP(E17,Scales!$C$3:$D$19,2,FALSE)))
H18: Credits Passed: | I18: =SUM(I11:I17) -> 0 | J18: =SUM(J11:J17) -> 0 | K18: =SUM(K11:K17)/J18 -> #DIV/0!
I19: GPA Hrs:
J20: GPA:
A21: COMMON CORE (12 Credits) At least one of the following must be at the 300 level.
B22: Course No. | C22: Title | D22: Credit | E22: Grade | F22: Semester | G22: Year | H22: Notes: | I22: Hrs Passed | J22: GPA Hrs | K22: GPA Units
A23: A | B23: N190/N390 | C23: The Natural World | D23: 3 | H23: N190 or N390 (BIOL, CHEM, GEOL, PHYS, ASTR, etc.) | I23: =IF(OR(E23= "A+",E23="A", E23="A-",E23="B+", E23="B", E23="B-", E23="C+", E23="C", E23="C-", E23="D+", E23="D", E23="D-", E23="S"), D23, 0) -> 0 | J23: =IF(OR(E23= "A+",E23="A", E23="A-",E23="B+", E23="B", E23="B-", E23="C+", E23="C", E23="C-", E23="D+", E23="D", E23="D-", E23="F"), D23, 0) -> 0 | K23: =IF(ISBLANK(E23 ),"",IF( VLOOKUP(E23,Scales!$C$3:$D$19,2,FALSE) <0, "", D23*VLOOKUP(E23,Scales!$C$3:$D$19,2,FALSE)))
A24: B | C24: Human Behavior & Social Institutions | D24: 3 | H24: B190 or B399 (COGS, POLS, PSY, SOC, etc.) | I24: =IF(OR(E24= "A+",E24="A", E24="A-",E24="B+", E24="B", E24="B-", E24="C+", E24="C", E24="C-", E24="D+", E24="D", E24="D-", E24="S"), D24, 0) -> 0 | J24: =IF(OR(E24= "A+",E24="A", E24="A-",E24="B+", E24="B", E24="B-", E24="C+", E24="C", E24="C-", E24="D+", E24="D", E24="D-", E24="F"), D24, 0) -> 0 | K24: =IF(ISBLANK(E24 ),"",IF( VLOOKUP(E24,Scales!$C$3:$D$19,2,FALSE) <0, "", D24*VLOOKUP(E24,Scales!$C$3:$D$19,2,FALSE)))
A25: C | C25: Literary and Intellectual Traditions | D25: 3 | H25: T190 or T390 (CMLT, ENG, FINA, HIST, PHIL, MUS, etc.) | I25: =IF(OR(E25= "A+",E25="A", E25="A-",E25="B+", E25="B", E25="B-", E25="C+", E25="C", E25="C-", E25="D+", E25="D", E25="D-", E25="S"), D25, 0) -> 0 | J25: =IF(OR(E25= "A+",E25="A", E25="A-",E25="B+", E25="B", E25="B-", E25="C+", E25="C", E25="C-", E25="D+", E25="D", E25="D-", E25="F"), D25, 0) -> 0 | K25: =IF(ISBLANK(E25 ),"",IF( VLOOKUP(E25,Scales!$C$3:$D$19,2,FALSE) <0, "", D25*VLOOKUP(E25,Scales!$C$3:$D$19,2,FALSE)))
A26: D | C26: Art, Aesthetics and Creativity | D26: 3 | H26: A190 or A399 (FINA, MUS, THTR, etc.) | I26: =IF(OR(E26= "A+",E26="A", E26="A-",E26="B+", E26="B", E26="B-", E26="C+", E26="C", E26="C-", E26="D+", E26="D", E26="D-", E26="S"), D26, 0) -> 0 | J26: =IF(OR(E26= "A+",E26="A", E26="A-",E26="B+", E26="B", E26="B-", E26="C+", E26="C", E26="C-", E26="D+", E26="D", E26="D-", E26="F"), D26, 0) -> 0 | K26: =IF(ISBLANK(E26 ),"",IF( VLOOKUP(E26,Scales!$C$3:$D$19,2,FALSE) <0, "", D26*VLOOKUP(E26,Scales!$C$3:$D$19,2,FALSE)))
H27: Credits Passed: | I27: =SUM(I23:I26) -> 0 | J27: =SUM(J23:J26) -> 0 | K27: =SUM(K23:K26)/J27 -> #DIV/0!
I28: GPA Hrs:
J29: GPA:
A30: CONTEMPORARY SOCIAL VALUES (8 Credits)
B31: Course No. | C31: Title | D31: Credit | E31: Grade | F31: Semester | G31: Year | H31: Notes: | I31: Hrs Passed | J31: GPA Hrs | K31: GPA Units
A32: A | C32: Non-Western Cultures | D32: 3 | H32: (e.g., ANTH E105, POLS Y109) | I32: =IF(OR(E32= "A+",E32="A", E32="A-",E32="B+", E32="B", E32="B-", E32="C+", E32="C", E32="C-", E32="D+", E32="D", E32="D-", E32="S"), D32, 0) -> 0 | J32: =IF(OR(E32= "A+",E32="A", E32="A-",E32="B+", E32="B", E32="B-", E32="C+", E32="C", E32="C-", E32="D+", E32="D", E32="D-", E32="F"), D32, 0) -> 0 | K32: =IF(ISBLANK(E32 ),"",IF( VLOOKUP(E32,Scales!$C$3:$D$19,2,FALSE) <0, "", D32*VLOOKUP(E32,Scales!$C$3:$D$19,2,FALSE)))
A33: B | C33: Diversity in U.S. Society | D33: 3 | H33: (e.g., SOC S161, HIST-H105 or H106) | I33: =IF(OR(E33= "A+",E33="A", E33="A-",E33="B+", E33="B", E33="B-", E33="C+", E33="C", E33="C-", E33="D+", E33="D", E33="D-", E33="S"), D33, 0) -> 0 | J33: =IF(OR(E33= "A+",E33="A", E33="A-",E33="B+", E33="B", E33="B-", E33="C+", E33="C", E33="C-", E33="D+", E33="D", E33="D-", E33="F"), D33, 0) -> 0 | K33: =IF(ISBLANK(E33 ),"",IF( VLOOKUP(E33,Scales!$C$3:$D$19,2,FALSE) <0, "", D33*VLOOKUP(E33,Scales!$C$3:$D$19,2,FALSE)))
A34: C | C34: Health and Wellness | D34: 2 | H34: (e.g., HPER N220, NURS B109 plus HPER-E100-level) | I34: =IF(OR(E34= "A+",E34="A", E34="A-",E34="B+", E34="B", E34="B-", E34="C+", E34="C", E34="C-", E34="D+", E34="D", E34="D-", E34="S"), D34, 0) -> 0 | J34: =IF(OR(E34= "A+",E34="A", E34="A-",E34="B+", E34="B", E34="B-", E34="C+", E34="C", E34="C-", E34="D+", E34="D", E34="D-", E34="F"), D34, 0) -> 0 | K34: =IF(ISBLANK(E34 ),"",IF( VLOOKUP(E34,Scales!$C$3:$D$19,2,FALSE) <0, "", D34*VLOOKUP(E34,Scales!$C$3:$D$19,2,FALSE)))
H35: Credits Passed: | I35: =SUM(I32:I34) -> 0 | J35: =SUM(J32:J34) -> 0 | K35: =SUM(K32:K34)/J35 -> #DIV/0!
I36: GPA Hrs:
J37: GPA:
A38: For additional GEN-ED courses please see: https://www.iusb.edu/general-educ/gened_curriculm.php
A39: LANGUAGE STUDIES (6 Credits)
B40: Course No. | C40: Title | D40: Credit | E40: Grade | F40: Semester | G40: Year | H40: Notes: | I40: Hrs Passed | J40: GPA Hrs | K40: GPA Units
A41: A | D41: 3 | H41: Two semesters in a single language, or equivalent (e.g., three years of one foreign language in high school with at least a “C” average). | I41: =IF(OR(E41= "A+",E41="A", E41="A-",E41="B+", E41="B", E41="B-", E41="C+", E41="C", E41="C-", E41="D+", E41="D", E41="D-", E41="S"), D41, 0) -> 0 | J41: =IF(OR(E41= "A+",E41="A", E41="A-",E41="B+", E41="B", E41="B-", E41="C+", E41="C", E41="C-", E41="D+", E41="D", E41="D-", E41="F"), D41, 0) -> 0 | K41: =IF(ISBLANK(E41 ),"",IF( VLOOKUP(E41,Scales!$C$3:$D$19,2,FALSE) <0, "", D41*VLOOKUP(E41,Scales!$C$3:$D$19,2,FALSE)))
A42: B | D42: 3 | I42: =IF(OR(E42= "A+",E42="A", E42="A-",E42="B+", E42="B", E42="B-", E42="C+", E42="C", E42="C-", E42="D+", E42="D", E42="D-", E42="S"), D42, 0) -> 0 | J42: =IF(OR(E42= "A+",E42="A", E42="A-",E42="B+", E42="B", E42="B-", E42="C+", E42="C", E42="C-", E42="D+", E42="D", E42="D-", E42="F"), D42, 0) -> 0 | K42: =IF(ISBLANK(E42 ),"",IF( VLOOKUP(E42,Scales!$C$3:$D$19,2,FALSE) <0, "", D42*VLOOKUP(E42,Scales!$C$3:$D$19,2,FALSE)))
H43: Credits Passed: | I43: =SUM(I41:I42) -> 0 | J43: =SUM(J41:J42) -> 0 | K43: =SUM(K41:K42)/J43 -> #DIV/0!
I44: GPA Hrs:
J45: GPA:
A47: PHYSICAL & LIFE SCIENCES (10 Credits)
B48: Course No. | C48: Title | D48: Credit | E48: Grade | F48: Semester | G48: Year | H48: Notes: | I48: Hrs Passed | J48: GPA Hrs | K48: GPA Units
A49: A | B49: N190/N390 | C49: Natural World | D49: 0 | H49: N190 or N390 (Common Core) | I49: =IF(OR(E49= "A+",E49="A", E49="A-",E49="B+", E49="B", E49="B-", E49="C+", E49="C", E49="C-", E49="D+", E49="D", E49="D-", E49="S"), D49, 0) -> 0 | J49: =IF(OR(E49= "A+",E49="A", E49="A-",E49="B+", E49="B", E49="B-", E49="C+", E49="C", E49="C-", E49="D+", E49="D", E49="D-", E49="F"), D49, 0) -> 0 | K49: =IF(ISBLANK(E49 ),"",IF( VLOOKUP(E49,Scales!$C$3:$D$19,2,FALSE) <0, "", D49*VLOOKUP(E49,Scales!$C$3:$D$19,2,FALSE)))
A50: B | D50: 3 | H50: 10 Additional Science Credits, from at least two science departments | I50: =IF(OR(E50= "A+",E50="A", E50="A-",E50="B+", E50="B", E50="B-", E50="C+", E50="C", E50="C-", E50="D+", E50="D", E50="D-", E50="S"), D50, 0) -> 0 | J50: =IF(OR(E50= "A+",E50="A", E50="A-",E50="B+", E50="B", E50="B-", E50="C+", E50="C", E50="C-", E50="D+", E50="D", E50="D-", E50="F"), D50, 0) -> 0 | K50: =IF(ISBLANK(E50 ),"",IF( VLOOKUP(E50,Scales!$C$3:$D$19,2,FALSE) <0, "", D50*VLOOKUP(E50,Scales!$C$3:$D$19,2,FALSE)))
A51: C | D51: 3 | I51: =IF(OR(E51= "A+",E51="A", E51="A-",E51="B+", E51="B", E51="B-", E51="C+", E51="C", E51="C-", E51="D+", E51="D", E51="D-", E51="S"), D51, 0) -> 0 | J51: =IF(OR(E51= "A+",E51="A", E51="A-",E51="B+", E51="B", E51="B-", E51="C+", E51="C", E51="C-", E51="D+", E51="D", E51="D-", E51="F"), D51, 0) -> 0 | K51: =IF(ISBLANK(E51 ),"",IF( VLOOKUP(E51,Scales!$C$3:$D$19,2,FALSE) <0, "", D51*VLOOKUP(E51,Scales!$C$3:$D$19,2,FALSE)))
A52: D | D52: 4 | I52: =IF(OR(E52= "A+",E52="A", E52="A-",E52="B+", E52="B", E52="B-", E52="C+", E52="C", E52="C-", E52="D+", E52="D", E52="D-", E52="S"), D52, 0) -> 0 | J52: =IF(OR(E52= "A+",E52="A", E52="A-",E52="B+", E52="B", E52="B-", E52="C+", E52="C", E52="C-", E52="D+", E52="D", E52="D-", E52="F"), D52, 0) -> 0 | K52: =IF(ISBLANK(E52 ),"",IF( VLOOKUP(E52,Scales!$C$3:$D$19,2,FALSE) <0, "", D52*VLOOKUP(E52,Scales!$C$3:$D$19,2,FALSE)))
A53: E | I53: =IF(OR(E53= "A+",E53="A", E53="A-",E53="B+", E53="B", E53="B-", E53="C+", E53="C", E53="C-", E53="D+", E53="D", E53="D-", E53="S"), D53, 0) -> 0 | J53: =IF(OR(E53= "A+",E53="A", E53="A-",E53="B+", E53="B", E53="B-", E53="C+", E53="C", E53="C-", E53="D+", E53="D", E53="D-", E53="F"), D53, 0) -> 0 | K53: =IF(ISBLANK(E53 ),"",IF( VLOOKUP(E53,Scales!$C$3:$D$19,2,FALSE) <0, "", D53*VLOOKUP(E53,Scales!$C$3:$D$19,2,FALSE)))
H54: Credits Passed: | I54: =SUM(I49:I53) -> 0 | J54: =SUM(J49:J53) -> 0 | K54: =SUM(K49:K53)/J54 -> #DIV/0!
I55: GPA Hrs:
J56: GPA:
A59: QUANTITATIVE AND ANALYTICAL SKILLS (6 Credits) (A grade of C or better is required)
B60: Course No. | C60: Title | D60: Credit | E60: Grade | F60: Semester | G60: Year | H60: Notes: | I60: Hrs Passed | J60: GPA Hrs | K60: GPA Units
A61: A | B61: MATH M118 | C61: Finite Mathematics | D61: 3 | H61: (Grade of C or better) | I61: =IF(OR(E61= "A+",E61="A", E61="A-",E61="B+", E61="B", E61="B-", E61="C+", E61="C", E61="C-", E61="D+", E61="D", E61="D-", E61="S"), D61, 0) -> 0 | J61: =IF(OR(E61= "A+",E61="A", E61="A-",E61="B+", E61="B", E61="B-", E61="C+", E61="C", E61="C-", E61="D+", E61="D", E61="D-", E61="F"), D61, 0) -> 0 | K61: =IF(ISBLANK(E61 ),"",IF( VLOOKUP(E61,Scales!$C$3:$D$19,2,FALSE) <0, "", D61*VLOOKUP(E61,Scales!$C$3:$D$19,2,FALSE)))
A62: B | C62: Statistics (300 level) approved by the informatics director | D62: 3 | H62: e. g. ,MATH M365 , SOC-S 351, MATH-K 300, MATH-K 310, PSY-K 300, PSY-K 310 (Grade of C or better) | I62: =IF(OR(E62= "A+",E62="A", E62="A-",E62="B+", E62="B", E62="B-", E62="C+", E62="C", E62="C-", E62="D+", E62="D", E62="D-", E62="S"), D62, 0) -> 0 | J62: =IF(OR(E62= "A+",E62="A", E62="A-",E62="B+", E62="B", E62="B-", E62="C+", E62="C", E62="C-", E62="D+", E62="D", E62="D-", E62="F"), D62, 0) -> 0 | K62: =IF(ISBLANK(E62 ),"",IF( VLOOKUP(E62,Scales!$C$3:$D$19,2,FALSE) <0, "", D62*VLOOKUP(E62,Scales!$C$3:$D$19,2,FALSE)))
H63: Credits Passed: | I63: =SUM(I61:I62) -> 0 | J63: =SUM(J61:J62) -> 0 | K63: =SUM(K61:K62)/J63 -> #DIV/0!
I64: GPA Hrs:
J65: GPA:
A68: INFORMATICS CORE (34 Credits) (A grade of C or better is required) (Overall GPA of 2.0 in major courses is required)
B69: Course No. | C69: Title | D69: Credit | E69: Grade | F69: Semester | G69: Year | H69: Notes: | I69: Hrs Passed | J69: GPA Hrs | K69: GPA Units
A70: A | B70: INFO-C 100 | C70: Informatics Foundation | D70: 3 | H70: Take together with C112 | I70: =IF(OR(E70= "A+",E70="A", E70="A-",E70="B+", E70="B", E70="B-", E70="C+", E70="C", E70="C-", E70="D+", E70="D", E70="D-", E70="S"), D70, 0) -> 0 | J70: =IF(OR(E70= "A+",E70="A", E70="A-",E70="B+", E70="B", E70="B-", E70="C+", E70="C", E70="C-", E70="D+", E70="D", E70="D-", E70="F"), D70, 0) -> 0 | K70: =IF(ISBLANK(E70 ),"",IF( VLOOKUP(E70,Scales!$C$3:$D$19,2,FALSE) <0, "", D70*VLOOKUP(E70,Scales!$C$3:$D$19,2,FALSE)))
B71: INFO-C 112 | C71: Tools of Informatics | D71: 3 | H71: Take together with C100 | I71: =IF(OR(E71= "A+",E71="A", E71="A-",E71="B+", E71="B", E71="B-", E71="C+", E71="C", E71="C-", E71="D+", E71="D", E71="D-", E71="S"), D71, 0) -> 0 | J71: =IF(OR(E71= "A+",E71="A", E71="A-",E71="B+", E71="B", E71="B-", E71="C+", E71="C", E71="C-", E71="D+", E71="D", E71="D-", E71="F"), D71, 0) -> 0 | K71: =IF(ISBLANK(E71 ),"",IF( VLOOKUP(E71,Scales!$C$3:$D$19,2,FALSE) <0, "", D71*VLOOKUP(E71,Scales!$C$3:$D$19,2,FALSE)))
A72: B | B72: INFO-C 201 | C72: Math. Found. of Informatics | D72: 3 | H72: P: MATH-M118, Same as INFO-I 201 at IUSB | I72: =IF(OR(E72= "A+",E72="A", E72="A-",E72="B+", E72="B", E72="B-", E72="C+", E72="C", E72="C-", E72="D+", E72="D", E72="D-", E72="S"), D72, 0) -> 0 | J72: =IF(OR(E72= "A+",E72="A", E72="A-",E72="B+", E72="B", E72="B-", E72="C+", E72="C", E72="C-", E72="D+", E72="D", E72="D-", E72="F"), D72, 0) -> 0 | K72: =IF(ISBLANK(E72 ),"",IF( VLOOKUP(E72,Scales!$C$3:$D$19,2,FALSE) <0, "", D72*VLOOKUP(E72,Scales!$C$3:$D$19,2,FALSE)))
A73: C | B73: INFO-C 203 | C73: Social Informatics | D73: 3 | H73: P: C100, Same as INFO-I 202 at IUSB | I73: =IF(OR(E73= "A+",E73="A", E73="A-",E73="B+", E73="B", E73="B-", E73="C+", E73="C", E73="C-", E73="D+", E73="D", E73="D-", E73="S"), D73, 0) -> 0 | J73: =IF(OR(E73= "A+",E73="A", E73="A-",E73="B+", E73="B", E73="B-", E73="C+", E73="C", E73="C-", E73="D+", E73="D", E73="D-", E73="F"), D73, 0) -> 0 | K73: =IF(ISBLANK(E73 ),"",IF( VLOOKUP(E73,Scales!$C$3:$D$19,2,FALSE) <0, "", D73*VLOOKUP(E73,Scales!$C$3:$D$19,2,FALSE)))
A74: D | B74: INFO-C 210 | C74: Problem Solving and Programming 1 | D74: 3 | I74: =IF(OR(E74= "A+",E74="A", E74="A-",E74="B+", E74="B", E74="B-", E74="C+", E74="C", E74="C-", E74="D+", E74="D", E74="D-", E74="S"), D74, 0) -> 0 | J74: =IF(OR(E74= "A+",E74="A", E74="A-",E74="B+", E74="B", E74="B-", E74="C+", E74="C", E74="C-", E74="D+", E74="D", E74="D-", E74="F"), D74, 0) -> 0 | K74: =IF(ISBLANK(E74 ),"",IF( VLOOKUP(E74,Scales!$C$3:$D$19,2,FALSE) <0, "", D74*VLOOKUP(E74,Scales!$C$3:$D$19,2,FALSE)))
A75: E | B75: INFO-C 211 | C75: Problem Solving and Programming 2 | D75: 3 | I75: =IF(OR(E75= "A+",E75="A", E75="A-",E75="B+", E75="B", E75="B-", E75="C+", E75="C", E75="C-", E75="D+", E75="D", E75="D-", E75="S"), D75, 0) -> 0 | J75: =IF(OR(E75= "A+",E75="A", E75="A-",E75="B+", E75="B", E75="B-", E75="C+", E75="C", E75="C-", E75="D+", E75="D", E75="D-", E75="F"), D75, 0) -> 0 | K75: =IF(ISBLANK(E75 ),"",IF( VLOOKUP(E75,Scales!$C$3:$D$19,2,FALSE) <0, "", D75*VLOOKUP(E75,Scales!$C$3:$D$19,2,FALSE)))
B76: INFO-C 300 | C76: Human Computer Interaction | D76: 3 | H76: P: C211, Same as I300 at IUSB | I76: =IF(OR(E76= "A+",E76="A", E76="A-",E76="B+", E76="B", E76="B-", E76="C+", E76="C", E76="C-", E76="D+", E76="D", E76="D-", E76="S"), D76, 0) -> 0 | J76: =IF(OR(E76= "A+",E76="A", E76="A-",E76="B+", E76="B", E76="B-", E76="C+", E76="C", E76="C-", E76="D+", E76="D", E76="D-", E76="F"), D76, 0) -> 0 | K76: =IF(ISBLANK(E76 ),"",IF( VLOOKUP(E76,Scales!$C$3:$D$19,2,FALSE) <0, "", D76*VLOOKUP(E76,Scales!$C$3:$D$19,2,FALSE)))
A77: F | B77: INFO-C 307 | C77: Data Representation and Organization | D77: 3 | H77: P: C211, Same as INFO-C 308 | I77: =IF(OR(E77= "A+",E77="A", E77="A-",E77="B+", E77="B", E77="B-", E77="C+", E77="C", E77="C-", E77="D+", E77="D", E77="D-", E77="S"), D77, 0) -> 0 | J77: =IF(OR(E77= "A+",E77="A", E77="A-",E77="B+", E77="B", E77="B-", E77="C+", E77="C", E77="C-", E77="D+", E77="D", E77="D-", E77="F"), D77, 0) -> 0 | K77: =IF(ISBLANK(E77 ),"",IF( VLOOKUP(E77,Scales!$C$3:$D$19,2,FALSE) <0, "", D77*VLOOKUP(E77,Scales!$C$3:$D$19,2,FALSE)))
B78: INFO-C 399 | C78: Database Systems | D78: 3 | I78: =IF(OR(E78= "A+",E78="A", E78="A-",E78="B+", E78="B", E78="B-", E78="C+", E78="C", E78="C-", E78="D+", E78="D", E78="D-", E78="S"), D78, 0) -> 0 | J78: =IF(OR(E78= "A+",E78="A", E78="A-",E78="B+", E78="B", E78="B-", E78="C+", E78="C", E78="C-", E78="D+", E78="D", E78="D-", E78="F"), D78, 0) -> 0 | K78: =IF(ISBLANK(E78 ),"",IF( VLOOKUP(E78,Scales!$C$3:$D$19,2,FALSE) <0, "", D78*VLOOKUP(E78,Scales!$C$3:$D$19,2,FALSE)))
B79: INFO-C 413 | C79: Web Design and Development | D79: 3 | I79: =IF(OR(E79= "A+",E79="A", E79="A-",E79="B+", E79="B", E79="B-", E79="C+", E79="C", E79="C-", E79="D+", E79="D", E79="D-", E79="S"), D79, 0) -> 0 | J79: =IF(OR(E79= "A+",E79="A", E79="A-",E79="B+", E79="B", E79="B-", E79="C+", E79="C", E79="C-", E79="D+", E79="D", E79="D-", E79="F"), D79, 0) -> 0 | K79: =IF(ISBLANK(E79 ),"",IF( VLOOKUP(E79,Scales!$C$3:$D$19,2,FALSE) <0, "", D79*VLOOKUP(E79,Scales!$C$3:$D$19,2,FALSE)))
B80: INFO-C 451 | C80: System Design | D80: 3 | I80: =IF(OR(E80= "A+",E80="A", E80="A-",E80="B+", E80="B", E80="B-", E80="C+", E80="C", E80="C-", E80="D+", E80="D", E80="D-", E80="S"), D80, 0) -> 0 | J80: =IF(OR(E80= "A+",E80="A", E80="A-",E80="B+", E80="B", E80="B-", E80="C+", E80="C", E80="C-", E80="D+", E80="D", E80="D-", E80="F"), D80, 0) -> 0 | K80: =IF(ISBLANK(E80 ),"",IF( VLOOKUP(E80,Scales!$C$3:$D$19,2,FALSE) <0, "", D80*VLOOKUP(E80,Scales!$C$3:$D$19,2,FALSE)))
A81: I | B81: INFO-C 451 | C81: System Implementation | D81: 3 | I81: =IF(OR(E81= "A+",E81="A", E81="A-",E81="B+", E81="B", E81="B-", E81="C+", E81="C", E81="C-", E81="D+", E81="D", E81="D-", E81="S"), D81, 0) -> 0 | J81: =IF(OR(E81= "A+",E81="A", E81="A-",E81="B+", E81="B", E81="B-", E81="C+", E81="C", E81="C-", E81="D+", E81="D", E81="D-", E81="F"), D81, 0) -> 0 | K81: =IF(ISBLANK(E81 ),"",IF( VLOOKUP(E81,Scales!$C$3:$D$19,2,FALSE) <0, "", D81*VLOOKUP(E81,Scales!$C$3:$D$19,2,FALSE)))
A82: J | B82: INFO-C 452 | C82: Project Management | D82: 3 | I82: =IF(OR(E82= "A+",E82="A", E82="A-",E82="B+", E82="B", E82="B-", E82="C+", E82="C", E82="C-", E82="D+", E82="D", E82="D-", E82="S"), D82, 0) -> 0 | J82: =IF(OR(E82= "A+",E82="A", E82="A-",E82="B+", E82="B", E82="B-", E82="C+", E82="C", E82="C-", E82="D+", E82="D", E82="D-", E82="F"), D82, 0) -> 0 | K82: =IF(ISBLANK(E82 ),"",IF( VLOOKUP(E82,Scales!$C$3:$D$19,2,FALSE) <0, "", D82*VLOOKUP(E82,Scales!$C$3:$D$19,2,FALSE)))
H83: Credits Passed: | I83: =SUM(I70:I82) -> 0 | J83: =SUM(J70:J82) -> 0 | K83: =SUM(K70:K82)/J83 -> #DIV/0!
I84: GPA Hrs:
J85: GPA:
A92: INFORMATICS ELECTIVES (6 Credits) (A grade of C or better is required) Electives: at least 6 credits chosen from Informatics electives (300 level or higher). Prerequisite courses may be required.
B93: Course No. | C93: Title | D93: Credit | E93: Grade | F93: Semester | G93: Year | H93: Notes: | I93: Hrs Passed | J93: GPA Hrs | K93: GPA Units
A94: A | D94: 3 | H94: Two of the following list of courses: BIOL-L 311 Genetics BUS-K 301 Enterprise Resource Planning CSCI-A 340 Introduction to Web Programming CSCI-C 335 Computer Structures CSCI-B 424 Parallel and Distributed Programming CSCI-C 435 Operating Systems I CSCI-B 438 Computer Networks CSCI-C 463 Artificial Intelligence CSCI-C 481 Interactive Computer Graphics ENG-W 315 Writing for the Web, ENG-W 367 Writing for Multimedia, FINA-P 374 Computer Arts and Design II INFO-I 3XX or 4XX Informatics Courses MATH-M 365 Probability and Statistics PHIL-P 338 Philosophy of Technology PHYS-P 334 Fundamentals of Optics PSY-P 335 Cognitive Psychology PSY-P 438 Language and Cognition SOC-S 319 Sociology of Science SOC-S 451 Web Based Survey Techniques | I94: =IF(OR(E94= "A+",E94="A", E94="A-",E94="B+", E94="B", E94="B-", E94="C+", E94="C", E94="C-", E94="D+", E94="D", E94="D-", E94="S"), D94, 0) -> 0 | J94: =IF(OR(E94= "A+",E94="A", E94="A-",E94="B+", E94="B", E94="B-", E94="C+", E94="C", E94="C-", E94="D+", E94="D", E94="D-", E94="F"), D94, 0) -> 0 | K94: =IF(ISBLANK(E94 ),"",IF( VLOOKUP(E94,Scales!$C$3:$D$19,2,FALSE) <0, "", D94*VLOOKUP(E94,Scales!$C$3:$D$19,2,FALSE)))
A95: B | D95: 3 | I95: =IF(OR(E95= "A+",E95="A", E95="A-",E95="B+", E95="B", E95="B-", E95="C+", E95="C", E95="C-", E95="D+", E95="D", E95="D-", E95="S"), D95, 0) -> 0 | J95: =IF(OR(E95= "A+",E95="A", E95="A-",E95="B+", E95="B", E95="B-", E95="C+", E95="C", E95="C-", E95="D+", E95="D", E95="D-", E95="F"), D95, 0) -> 0 | K95: =IF(ISBLANK(E95 ),"",IF( VLOOKUP(E95,Scales!$C$3:$D$19,2,FALSE) <0, "", D95*VLOOKUP(E95,Scales!$C$3:$D$19,2,FALSE)))
H96: Credits Passed: | I96: =SUM(I94:I95) -> 0 | J96: =SUM(J94:J95) -> 0 | K96: =SUM(K94:K95)/J96 -> #DIV/0!
I97: GPA Hrs:
J98: GPA:
A100: COGNATE AREA (15-18 Credits)
A101: Cognate courses can not dual count for both major and cogante. Consult the director of informatics if you have any questions
B102: Course No. | C102: Title | D102: Credit | E102: Grade | F102: Semester | G102: Year | H102: Notes: | I102: Hrs Passed | J102: GPA Hrs | K102: GPA Units
A103: A | I103: =IF(OR(E103= "A+",E103="A", E103="A-",E103="B+", E103="B", E103="B-", E103="C+", E103="C", E103="C-", E103="D+", E103="D", E103="D-", E103="S"), D103, 0) -> 0 | J103: =IF(OR(E103= "A+",E103="A", E103="A-",E103="B+", E103="B", E103="B-", E103="C+", E103="C", E103="C-", E103="D+", E103="D", E103="D-", E103="F"), D103, 0) -> 0 | K103: =IF(ISBLANK(E103 ),"",IF( VLOOKUP(E103,Scales!$C$3:$D$19,2,FALSE) <0, "", D103*VLOOKUP(E103,Scales!$C$3:$D$19,2,FALSE)))
A104: B | I104: =IF(OR(E104= "A+",E104="A", E104="A-",E104="B+", E104="B", E104="B-", E104="C+", E104="C", E104="C-", E104="D+", E104="D", E104="D-", E104="S"), D104, 0) -> 0 | J104: =IF(OR(E104= "A+",E104="A", E104="A-",E104="B+", E104="B", E104="B-", E104="C+", E104="C", E104="C-", E104="D+", E104="D", E104="D-", E104="F"), D104, 0) -> 0 | K104: =IF(ISBLANK(E104 ),"",IF( VLOOKUP(E104,Scales!$C$3:$D$19,2,FALSE) <0, "", D104*VLOOKUP(E104,Scales!$C$3:$D$19,2,FALSE)))
A105: C | I105: =IF(OR(E105= "A+",E105="A", E105="A-",E105="B+", E105="B", E105="B-", E105="C+", E105="C", E105="C-", E105="D+", E105="D", E105="D-", E105="S"), D105, 0) -> 0 | J105: =IF(OR(E105= "A+",E105="A", E105="A-",E105="B+", E105="B", E105="B-", E105="C+", E105="C", E105="C-", E105="D+", E105="D", E105="D-", E105="F"), D105, 0) -> 0 | K105: =IF(ISBLANK(E105 ),"",IF( VLOOKUP(E105,Scales!$C$3:$D$19,2,FALSE) <0, "", D105*VLOOKUP(E105,Scales!$C$3:$D$19,2,FALSE)))
A106: D | I106: =IF(OR(E106= "A+",E106="A", E106="A-",E106="B+", E106="B", E106="B-", E106="C+", E106="C", E106="C-", E106="D+", E106="D", E106="D-", E106="S"), D106, 0) -> 0 | J106: =IF(OR(E106= "A+",E106="A", E106="A-",E106="B+", E106="B", E106="B-", E106="C+", E106="C", E106="C-", E106="D+", E106="D", E106="D-", E106="F"), D106, 0) -> 0 | K106: =IF(ISBLANK(E106 ),"",IF( VLOOKUP(E106,Scales!$C$3:$D$19,2,FALSE) <0, "", D106*VLOOKUP(E106,Scales!$C$3:$D$19,2,FALSE)))
A107: E | I107: =IF(OR(E107= "A+",E107="A", E107="A-",E107="B+", E107="B", E107="B-", E107="C+", E107="C", E107="C-", E107="D+", E107="D", E107="D-", E107="S"), D107, 0) -> 0 | J107: =IF(OR(E107= "A+",E107="A", E107="A-",E107="B+", E107="B", E107="B-", E107="C+", E107="C", E107="C-", E107="D+", E107="D", E107="D-", E107="F"), D107, 0) -> 0 | K107: =IF(ISBLANK(E107 ),"",IF( VLOOKUP(E107,Scales!$C$3:$D$19,2,FALSE) <0, "", D107*VLOOKUP(E107,Scales!$C$3:$D$19,2,FALSE)))
A108: F | I108: =IF(OR(E108= "A+",E108="A", E108="A-",E108="B+", E108="B", E108="B-", E108="C+", E108="C", E108="C-", E108="D+", E108="D", E108="D-", E108="S"), D108, 0) -> 0 | J108: =IF(OR(E108= "A+",E108="A", E108="A-",E108="B+", E108="B", E108="B-", E108="C+", E108="C", E108="C-", E108="D+", E108="D", E108="D-", E108="F"), D108, 0) -> 0 | K108: =IF(ISBLANK(E108 ),"",IF( VLOOKUP(E108,Scales!$C$3:$D$19,2,FALSE) <0, "",#REF!*VLOOKUP( E108,Scales!$C$3:$D$19,2,FALSE)))
H109: Credits Passed: | I109: =SUM(I103:I108) -> 0 | J109: =SUM(J103:J108) -> 0 | K109: =SUM(K103:K108)/J109 -> #DIV/0!
I110: GPA Hrs:
J111: GPA:
A118: ** Course substitutions must be approved by the director of Informatics.
B119: Cognate courses can not dual count for both major and cogante. Consult the director of informatics if you have any questions
...

Sheet Scales
A2: Semesters | B2: Years | C2: Grade | D2: Points
C3: A+ | D3: 4
A4: Fall | B4: 2003 | C4: A | D4: 4
A5: Spring | B5: 2004 | C5: A- | D5: 3.7
A6: Sum I | B6: 2005 | C6: B+ | D6: 3.3
A7: Sum II | B7: 2006 | C7: B | D7: 3
B8: 2007 | C8: B- | D8: 2.7
B9: 2010 | C9: C+ | D9: 2.3
C10: C | D10: 2
C11: C- | D11: 1.7
C12: D+ | D12: 1.3
C13: D | D13: 1
C14: D- | D14: 0.7
C15: F | D15: 0
C16: I | D16: -1
C17: S | D17: -2
C18: . | D18: -3
C19: - | D19: -4

Sheet CourseOptions
A1: Stat Classes: | B1: MATH M365
B2: SOC-S 351
B3: MATH-K 300
B4: MATH-K 310
B5: PSY-K 300
B6: PSY-K 310
A10: Pick 2 from List: | B10: I300 Human-Computer Interaction
B11: I303 Organizational Informatics
B12: I310 Multimedia Arts and Technology
B13: I320 Distrib. Sys. & Collab. Comp.
A18: Semesters: | B18: Fall
B19: Spring
B20: Summer
A23: Informatics Electives: | B23: BIOL-L 311 Genetics
B24: BUS-K 301 Enterprise Resource Planning
B25: CSCI-A 340 Intro to Web Programming
B26: CSCI-C 335 Computer Structures
B27: CSCI-B 424 Parallel and Distributed Programming
B28: CSCI-C 435 Operating Systems
B29: CSCI-B 438 Computer Networks
B30: CSCI-C 463 Artificial Intelligence
B31: CSCI-C 481 Interactive Computer Graphics
B32: CSCI-C 490 Topics
B33: ENG-W 315 Writing for the Web
B34: ENG-W 367 Writing for Multimedia
B35: FINA-P 374 Computer Arts and Design II
... B53: SOC-S 451 Web Based Survey Techniques
A57: Cognates: | B57: Health Informatics (online)
B58: Web Development
B59: Cognate 3
B60: Cognate 4
B61: Cognate 5
B62: Cognate 6
B63: Cognate 7
B64: Cognate 8
B65: Cognate 9
B66: Cognate 10
B67: Cognate 11
B68: Cognate 12
B69: Cognate 13
... B72: Cognate 16
