Workbook

Sheet CS_Advising_Sheet
F1: BACHELOR of Science in Informatics (ONLINE)
F2: For students who entered the College of Liberal Arts & Sciences starting Fall 2005 or after
F3: Total Credits Required: 120
F4: Last Revised: 5/2017
A5: NAME: | H5: Total Credits Completed: | K5: =SUM(I18,I27,I35,I43,I54,I63,I83,I96,I183) -> 0
A6: ID#: | J6: Cummulative GPA Hours: | K6: =SUM(J18,J27,J35,J43,J54,J63,J83,J96,J109,J183) -> 0
A7: DATE: | J7: Cummulative GPA: | K7: =SUM(K11:K17,K23:K26,K32:K34,K41:K42,K49:K53,K61:K62,K70:K82,K94:K95,K103:K108,K178:K182) /K6 -> #DIV/0!
A9: FUNDAMENTAL LITERACIES: (13 - 19 credits)
B10: Course No. | C10: Title | D10: Credit | E10: Grade | F10: Semester | G10: Year | H10: Notes: | I10: Hrs Passed | J10: GPA Hrs | K10: GPA Units
A11: A | B11: ENG-W 131 | C11: English Composition | D11: 3 | H11: A grade of C or better is required. | I11: =IF(OR(E11= "A+",E11="A", E11="A-",E11="B+", E11="B", E11="B-", E11="C+", E11="C", E11="C-", E11="D+", E11="D", E11="D-", E11="S"), D11, 0) -> 0 | J11: =IF(OR(E11= "A+",E11="A", E11="A-",E11="B+", E11="B", E11="B-", E11="C+", E11="C", E11="C-", E11="D+", E11="D", E11="D-", E11="F"), D11, 0) -> 0 | K11: =IF(ISBLANK(E11 ),"",IF( VLOOKUP(E11,Scales!$C$3:$D$19,2,FALSE) <0, "", D11*VLOOKUP(E11,Scales!$C$3:$D$19,2,FALSE)))
A12: B | C12: Critical Thinking | D12: 3 | H12: e.g., CSCI-C250, PHIL- P 105, P 110, P 150 | I12: =IF(OR(E12= "A+",E12="A", E12="A-",E12="B+", E12="B", E12="B-", E12="C+", E12="C", E12="C-", E12="D+", E12="D", E12="D-", E12="S"), D12, 0) -> 0 | J12: =IF(OR(E12= "A+",E12="A", E12="A-",E12="B+", E12="B", E12="B-", E12="C+", E12="C", E12="C-", E12="D+", E12="D", E12="D-", E12="F"), D12, 0) -> 0 | K12: =IF(ISBLANK(E12 ),"",IF( VLOOKUP(E12,Scales!$C$3:$D$19,2,FALSE) <0, "", D12*VLOOKUP(E12,Scales!$C$3:$D$19,2,FALSE)))
A13: C | B13: SPCH-S 121 | C13: Oral Communication | D13: 3 | H13: SPCH-S 121 | I13: =IF(OR(E13= "A+",E13="A", E13="A-",E13="B+", E13="B", E13="B-", E13="C+", E13="C", E13="C-", E13="D+", E13="D", E13="D-", E13="S"), D13, 0) -> 0 | J13: =IF(OR(E13= "A+",E13="A", E13="A-",E13="B+", E13="B", E13="B-", E13="C+", E13="C", E13="C-", E13="D+", E13="D", E13="D-", E13="F"), D13, 0) -> 0 | K13: =IF(ISBLANK(E13 ),"",IF( VLOOKUP(E13,Scales!$C$3:$D$19,2,FALSE) <0, "", D13*VLOOKUP(E13,Scales!$C$3:$D$19,2,FALSE)))
A14: D | B14: INFO-I 310 | C14: Visual Literary | D14: 3 | H14: e.g., INFO-I310, FINA A109, JOUR J210 | I14: =IF(OR(E14= "A+",E14="A", E14="A-",E14="B+", E14="B", E14="B-", E14="C+", E14="C", E14="C-", E14="D+", E14="D", E14="D-", E14="S"), D14, 0) -> 0 | J14: =IF(OR(E14= "A+",E14="A", E14="A-",E14="B+", E14="B", E14="B-", E14="C+", E14="C", E14="C-", E14="D+", E14="D", E14="D-", E14="F"), D14, 0) -> 0 | K14: =IF(ISBLANK(E14 ),"",IF( VLOOKUP(E14,Scales!$C$3:$D$19,2,FALSE) <0, "", D14*VLOOKUP(E14,Scales!$C$3:$D$19,2,FALSE)))
A15: E | B15: MATH-M 118 | C15: Quantitative Reasoning | D15: 3 | H15: Satisfied by required Mathematics courses | I15: =IF(OR(E15= "A+",E15="A", E15="A-",E15="B+", E15="B", E15="B-", E15="C+", E15="C", E15="C-", E15="D+", E15="D", E15="D-", E15="S"), D15, 0) -> 0 | J15: =IF(OR(E15= "A+",E15="A", E15="A-",E15="B+", E15="B", E15="B-", E15="C+", E15="C", E15="C-", E15="D+", E15="D", E15="D-", E15="F"), D15, 0) -> 0 | K15: =IF(ISBLANK(E15 ),"",IF( VLOOKUP(E15,Scales!$C$3:$D$19,2,FALSE) <0, "", D15*VLOOKUP(E15,Scales!$C$3:$D$19,2,FALSE)))
A16: F | B16: COAS-Q 110 | C16: Information Literacy | D16: 1 | H16: Should be taken with ENG W131 | I16: =IF(OR(E16= "A+",E16="A", E16="A-",E16="B+", E16="B", E16="B-", E16="C+", E16="C", E16="C-", E16="D+", E16="D", E16="D-", E16="S"), D16, 0) -> 0 | J16: =IF(OR(E16= "A+",E16="A", E16="A-",E16="B+", E16="B", E16="B-", E16="C+", E16="C", E16="C-", E16="D+", E16="D", E16="D-", E16="F"), D16, 0) -> 0 | K16: =IF(ISBLANK(E16 ),"",IF( VLOOKUP(E16,Scales!$C$3:$D$19,2,FALSE) <0, "", D16*VLOOKUP(E16,Scales!$C$3:$D$19,2,FALSE)))
A17: G | B17: INFO-I 101 | C17: Computer Literacy | D17: 3 | H17: Satisfied by required Computer Science courses | I17: =IF(OR(E17= "A+",E17="A", E17="A-",E17="B+", E17="B", E17="B-", E17="C+", E17="C", E17="C-", E17="D+", E17="D", E17="D-", E17="S"), D17, 0) -> 0 | J17: =IF(OR(E17= "A+",E17="A", E17="A-",E17="B+", E17="B", E17="B-", E17="C+", E17="C", E17="C-", E17="D+", E17="D", E17="D-", E17="F"), D17, 0) -> 0 | K17: =IF(ISBLANK(E17 ),"",IF( VLOOKUP(E17,Scales!$C$3:$D$19,2,FALSE) <0, "", D17*VLOOKUP(E17,Scales!$C$3:$D$19,2,FALSE)))
H18: Credits Passed: | I18: =SUM(I11:I17) -> 0 | J18: =SUM(J11:J17) -> 0 | K18: =SUM(K11:K17)/J18 -> #DIV/0!
I19: GPA Hrs:
J20: GPA:
A21: COMMON CORE (12 Credits) At least one of the following must be at the 300 level.
B22: Course No. | C22: Title | D22: Credit | E22: Grade | F22: Semester | G22: Year | H22: Notes: | I22: Hrs Passed | J22: GPA Hrs | K22: GPA Units
A23: A | B23: N190/N390 | C23: The Natural World | D23: 3 | H23: N190 or N390 (BIOL, CHEM, GEOL, PHYS, ASTR, etc.) | I23: =IF(OR(E23= "A+",E23="A", E23="A-",E23="B+", E23="B", E23="B-", E23="C+", E23="C", E23="C-", E23="D+", E23="D", E23="D-", E23="S"), D23, 0) -> 0 | J23: =IF(OR(E23= "A+",E23="A", E23="A-",E23="B+", E23="B", E23="B-", E23="C+", E23="C", E23="C-", E23="D+", E23="D", E23="D-", E23="F"), D23, 0) -> 0 | K23: =IF(ISBLANK(E23 ),"",IF( VLOOKUP(E23,Scales!$C$3:$D$19,2,FALSE) <0, "", D23*VLOOKUP(E23,Scales!$C$3:$D$19,2,FALSE)))
A24: B | C24: Human Behavior & Social Institutions | D24: 3 | H24: B190 or B399 (COGS, POLS, PSY, SOC, etc.) | I24: =IF(OR(E24= "A+",E24="A", E24="A-",E24="B+", E24="B", E24="B-", E24="C+", E24="C", E24="C-", E24="D+", E24="D", E24="D-", E24="S"), D24, 0) -> 0 | J24: =IF(OR(E24= "A+",E24="A", E24="A-",E24="B+", E24="B", E24="B-", E24="C+", E24="C", E24="C-", E24="D+", E24="D", E24="D-", E24="F"), D24, 0) -> 0 | K24: =IF(ISBLANK(E24 ),"",IF( VLOOKUP(E24,Scales!$C$3:$D$19,2,FALSE) <0, "", D24*VLOOKUP(E24,Scales!$C$3:$D$19,2,FALSE)))
A25: C | C25: Literary and Intellectual Traditions | D25: 3 | H25: T190 or T390 (CMLT, ENG, FINA, HIST, PHIL, MUS, etc.) | I25: =IF(OR(E25= "A+",E25="A", E25="A-",E25="B+", E25="B", E25="B-", E25="C+", E25="C", E25="C-", E25="D+", E25="D", E25="D-", E25="S"), D25, 0) -> 0 | J25: =IF(OR(E25= "A+",E25="A", E25="A-",E25="B+", E25="B", E25="B-", E25="C+", E25="C", E25="C-", E25="D+", E25="D", E25="D-", E25="F"), D25, 0) -> 0 | K25: =IF(ISBLANK(E25 ),"",IF( VLOOKUP(E25,Scales!$C$3:$D$19,2,FALSE) <0, "", D25*VLOOKUP(E25,Scales!$C$3:$D$19,2,FALSE)))
A26: D | C26: Art, Aesthetics and Creativity | D26: 3 | H26: A190 or A399 (FINA, MUS, THTR, etc.) | I26: =IF(OR(E26= "A+",E26="A", E26="A-",E26="B+", E26="B", E26="B-", E26="C+", E26="C", E26="C-", E26="D+", E26="D", E26="D-", E26="S"), D26, 0) -> 0 | J26: =IF(OR(E26= "A+",E26="A", E26="A-",E26="B+", E26="B", E26="B-", E26="C+", E26="C", E26="C-", E26="D+", E26="D", E26="D-", E26="F"), D26, 0) -> 0 | K26: =IF(ISBLANK(E26 ),"",IF( VLOOKUP(E26,Scales!$C$3:$D$19,2,FALSE) <0, "", D26*VLOOKUP(E26,Scales!$C$3:$D$19,2,FALSE)))
H27: Credits Passed: | I27: =SUM(I23:I26) -> 0 | J27: =SUM(J23:J26) -> 0 | K27: =SUM(K23:K26)/J27 -> #DIV/0!
I28: GPA Hrs:
J29: GPA:
A30: CONTEMPORARY SOCIAL VALUES (8 Credits)
B31: Course No. | C31: Title | D31: Credit | E31: Grade | F31: Semester | G31: Year | H31: Notes: | I31: Hrs Passed | J31: GPA Hrs | K31: GPA Units
A32: A | C32: Non-Western Cultures | D32: 3 | H32: (e.g., ANTH E105, POLS Y109) | I32: =IF(OR(E32= "A+",E32="A", E32="A-",E32="B+", E32="B", E32="B-", E32="C+", E32="C", E32="C-", E32="D+", E32="D", E32="D-", E32="S"), D32, 0) -> 0 | J32: =IF(OR(E32= "A+",E32="A", E32="A-",E32="B+", E32="B", E32="B-", E32="C+", E32="C", E32="C-", E32="D+", E32="D", E32="D-", E32="F"), D32, 0) -> 0 | K32: =IF(ISBLANK(E32 ),"",IF( VLOOKUP(E32,Scales!$C$3:$D$19,2,FALSE) <0, "", D32*VLOOKUP(E32,Scales!$C$3:$D$19,2,FALSE)))
A33: B | C33: Diversity in U.S. Society | D33: 3 | H33: (e.g., SOC S161, HIST-H105 or H106) | I33: =IF(OR(E33= "A+",E33="A", E33="A-",E33="B+", E33="B", E33="B-", E33="C+", E33="C", E33="C-", E33="D+", E33="D", E33="D-", E33="S"), D33, 0) -> 0 | J33: =IF(OR(E33= "A+",E33="A", E33="A-",E33="B+", E33="B", E33="B-", E33="C+", E33="C", E33="C-", E33="D+", E33="D", E33="D-", E33="F"), D33, 0) -> 0 | K33: =IF(ISBLANK(E33 ),"",IF( VLOOKUP(E33,Scales!$C$3:$D$19,2,FALSE) <0, "", D33*VLOOKUP(E33,Scales!$C$3:$D$19,2,FALSE)))
A34: C | C34: Health and Wellness | D34: 2 | H34: (e.g., HPER N220, NURS B109 plus HPER-E100-level) | I34: =IF(OR(E34= "A+",E34="A", E34="A-",E34="B+", E34="B", E34="B-", E34="C+", E34="C", E34="C-", E34="D+", E34="D", E34="D-", E34="S"), D34, 0) -> 0 | J34: =IF(OR(E34= "A+",E34="A", E34="A-",E34="B+", E34="B", E34="B-", E34="C+", E34="C", E34="C-", E34="D+", E34="D", E34="D-", E34="F"), D34, 0) -> 0 | K34: =IF(ISBLANK(E34 ),"",IF( VLOOKUP(E34,Scales!$C$3:$D$19,2,FALSE) <0, "", D34*VLOOKUP(E34,Scales!$C$3:$D$19,2,FALSE)))
H35: Credits Passed: | I35: =SUM(I32:I34) -> 0 | J35: =SUM(J32:J34) -> 0 | K35: =SUM(K32:K34)/J35 -> #DIV/0!
I36: GPA Hrs:
J37: GPA:
A38: For additional GEN-ED courses please see: https://www.iusb.edu/general-educ/gened_curriculm.php
A39: LANGUAGE STUDIES (6 Credits)
B40: Course No. | C40: Title | D40: Credit | E40: Grade | F40: Semester | G40: Year | H40: Notes: | I40: Hrs Passed | J40: GPA Hrs | K40: GPA Units
A41: A | D41: 3 | H41: Two semesters in a single language, or equivalent (e.g., three years of one foreign language in high school with at least a “C” average). | I41: =IF(OR(E41= "A+",E41="A", E41="A-",E41="B+", E41="B", E41="B-", E41="C+", E41="C", E41="C-", E41="D+", E41="D", E41="D-", E41="S"), D41, 0) -> 0 | J41: =IF(OR(E41= "A+",E41="A", E41="A-",E41="B+", E41="B", E41="B-", E41="C+", E41="C", E41="C-", E41="D+", E41="D", E41="D-", E41="F"), D41, 0) -> 0 | K41: =IF(ISBLANK(E41 ),"",IF( VLOOKUP(E41,Scales!$C$3:$D$19,2,FALSE) <0, "", D41*VLOOKUP(E41,Scales!$C$3:$D$19,2,FALSE)))
...

Sheet Scales
A2: Semesters | B2: Years | C2: Grade | D2: Points
C3: A+ | D3: 4
A4: Fall | B4: 2003 | C4: A | D4: 4
A5: Spring | B5: 2004 | C5: A- | D5: 3.7
A6: Sum I | B6: 2005 | C6: B+ | D6: 3.3
A7: Sum II | B7: 2006 | C7: B | D7: 3
B8: 2007 | C8: B- | D8: 2.7
B9: 2010 | C9: C+ | D9: 2.3
C10: C | D10: 2
C11: C- | D11: 1.7
C12: D+ | D12: 1.3
C13: D | D13: 1
C14: D- | D14: 0.7
C15: F | D15: 0
C16: I | D16: -1
C17: S | D17: -2
C18: . | D18: -3
C19: - | D19: -4

Sheet CourseOptions
A1: Stat Classes: | B1: MATH M365
B2: SOC-S 351
B3: MATH-K 300
B4: MATH-K 310
B5: PSY-K 300
B6: PSY-K 310
A10: Pick 2 from List: | B10: I300 Human-Computer Interaction
B11: I303 Organizational Informatics
B12: I310 Multimedia Arts and Technology
B13: I320 Distrib. Sys. & Collab. Comp.
A18: Semesters: | B18: Fall
B19: Spring
B20: Summer
A23: Informatics Electives: | B23: BIOL-L 311 Genetics
B24: BUS-K 301 Enterprise Resource Planning
B25: CSCI-A 340 Intro to Web Programming
B26: CSCI-C 335 Computer Structures
B27: CSCI-B 424 Parallel and Distributed Programming
B28: CSCI-C 435 Operating Systems
B29: CSCI-B 438 Computer Networks
B30: CSCI-C 463 Artificial Intelligence
B31: CSCI-C 481 Interactive Computer Graphics
B32: CSCI-C 490 Topics
B33: ENG-W 315 Writing for the Web
B34: ENG-W 367 Writing for Multimedia
B35: FINA-P 374 Computer Arts and Design II
... B53: SOC-S 451 Web Based Survey Techniques
A57: Cognates: | B57: Health Informatics (online)
B58: Web Development
B59: Cognate 3
B60: Cognate 4
B61: Cognate 5
B62: Cognate 6
B63: Cognate 7
B64: Cognate 8
B65: Cognate 9
B66: Cognate 10
B67: Cognate 11
B68: Cognate 12
B69: Cognate 13
...
